BEGIN:VCALENDAR
VERSION:2.0
PRODID:-//Fire Safe Marin - ECPv6.15.20//NONSGML v1.0//EN
CALSCALE:GREGORIAN
METHOD:PUBLISH
X-ORIGINAL-URL:https://firesafemarin.org
X-WR-CALDESC:Events for Fire Safe Marin
REFRESH-INTERVAL;VALUE=DURATION:PT1H
X-Robots-Tag:noindex
X-PUBLISHED-TTL:PT1H
BEGIN:VTIMEZONE
TZID:America/Los_Angeles
BEGIN:DAYLIGHT
TZOFFSETFROM:-0800
TZOFFSETTO:-0700
TZNAME:PDT
DTSTART:20220313T100000
END:DAYLIGHT
BEGIN:STANDARD
TZOFFSETFROM:-0700
TZOFFSETTO:-0800
TZNAME:PST
DTSTART:20221106T090000
END:STANDARD
BEGIN:DAYLIGHT
TZOFFSETFROM:-0800
TZOFFSETTO:-0700
TZNAME:PDT
DTSTART:20230312T100000
END:DAYLIGHT
BEGIN:STANDARD
TZOFFSETFROM:-0700
TZOFFSETTO:-0800
TZNAME:PST
DTSTART:20231105T090000
END:STANDARD
BEGIN:DAYLIGHT
TZOFFSETFROM:-0800
TZOFFSETTO:-0700
TZNAME:PDT
DTSTART:20240310T100000
END:DAYLIGHT
BEGIN:STANDARD
TZOFFSETFROM:-0700
TZOFFSETTO:-0800
TZNAME:PST
DTSTART:20241103T090000
END:STANDARD
BEGIN:DAYLIGHT
TZOFFSETFROM:-0800
TZOFFSETTO:-0700
TZNAME:PDT
DTSTART:20250309T100000
END:DAYLIGHT
BEGIN:STANDARD
TZOFFSETFROM:-0700
TZOFFSETTO:-0800
TZNAME:PST
DTSTART:20251102T090000
END:STANDARD
BEGIN:DAYLIGHT
TZOFFSETFROM:-0800
TZOFFSETTO:-0700
TZNAME:PDT
DTSTART:20260308T100000
END:DAYLIGHT
BEGIN:STANDARD
TZOFFSETFROM:-0700
TZOFFSETTO:-0800
TZNAME:PST
DTSTART:20261101T090000
END:STANDARD
END:VTIMEZONE
BEGIN:VEVENT
DTSTART;TZID=America/Los_Angeles:20250210T180000
DTEND;TZID=America/Los_Angeles:20250210T190000
DTSTAMP:20260421T061644
CREATED:20250204T235946Z
LAST-MODIFIED:20250205T000208Z
UID:106069-1739210400-1739214000@firesafemarin.org
SUMMARY:Wildfire Watch Special:  LA Fires - Lessons for Marin
DESCRIPTION:WWS-Resilience-Flyer-20250210
URL:https://firesafemarin.org/event/wildfire-watch-special-la-fires-lessons-for-marin/
LOCATION:Online (Zoom)
CATEGORIES:Community Events & Festivals
END:VEVENT
BEGIN:VEVENT
DTSTART;TZID=America/Los_Angeles:20230520T110000
DTEND;TZID=America/Los_Angeles:20230520T170000
DTSTAMP:20260421T061644
CREATED:20230107T003436Z
LAST-MODIFIED:20230107T005101Z
UID:11206-1684580400-1684602000@firesafemarin.org
SUMMARY:Ember Stomp
DESCRIPTION:Fire Safe Marin presents “Ember Stomp\,” the 2nd annual wildfire prevention festival in Marin County. Residents are invited to explore ways to protect their homes and lives from wildfire. \nDiscover an extensive collection of wildfire prevention resources and demonstrations\, learn about the latest wildfire safety product manufacturers and service providers\, engage with public safety agencies\, and experience firesmart landscapes\, a wildfire themed art exhibit\, live music and entertainment. Plus hands-on activities and games for kids\, and multi-cultural food.
URL:https://firesafemarin.org/event/ember-stomp-2/
LOCATION:Marin Civic center Fairgrounds\, 10 Avenue of the Flags\, San Rafael\, 94903
CATEGORIES:Community Events & Festivals
ATTACH;FMTTYPE=image/png:https://firesafemarin.org/wp-content/uploads/Screen-Shot-2023-01-06-at-4.29.38-PM.png
END:VEVENT
END:VCALENDAR